BEGIN:VCALENDAR
VERSION:2.0
PRODID:-//Squarespace Inc/Squarespace 6//v6//EN
BEGIN:VEVENT
UID:5a260d178165f5f1748040af@squarespace.com
DTSTAMP:20200117T065543Z
DTSTART:20200303T090000Z
DTEND:20200303T100000Z
SUMMARY:Intro Talk - Bondi\, in person or online
GEO:-33.88728;151.279357
LOCATION:Orchard Street (upstairs) OR online\, 1/2 Brighton Boulevard\, Bon
 di\, NSW\, 2026\, Australia
END:VEVENT
END:VCALENDAR
