BEGIN:VCALENDAR
VERSION:2.0
PRODID:-//Squarespace Inc/Squarespace 6//v6//EN
BEGIN:VEVENT
UID:59f002d190bcce8fabf9634e@squarespace.com
DTSTAMP:20200117T065429Z
DTSTART:20200407T100000Z
DTEND:20200407T110000Z
SUMMARY:Intro Talk - Bondi in person or online
GEO:-33.88728;151.279357
LOCATION:Orchard St (upstairs) or online\, 1/2 Brighton Boulevard\, Bondi\, 
 NSW\, 2026\, Australia
END:VEVENT
END:VCALENDAR
