BEGIN:VCALENDAR
VERSION:2.0
PRODID:-//Squarespace Inc/Squarespace 6//v6//EN
BEGIN:VEVENT
UID:5d1becb65f51d0000177f2ac@squarespace.com
DTSTAMP:20200212T202719Z
DTSTART:20200327T050000Z
DTEND:20200329T050000Z
SUMMARY:Meditation Course - Auckland\, New Zealand
GEO:-36.84846;174.763332
LOCATION:Address TBC\, Auckland\, New Zealand
END:VEVENT
END:VCALENDAR
