BEGIN:VCALENDAR
VERSION:2.0
PRODID:-//Squarespace Inc/Squarespace 6//v6//EN
BEGIN:VEVENT
UID:5a25f526c830250c1dc29619@squarespace.com
DTSTAMP:20200103T073820Z
DTSTART:20200121T060000Z
DTEND:20200123T100000Z
SUMMARY:Meditation Course - Melbourne
GEO:-37.813628;144.963058
LOCATION:Melbourne\, Melbourne\, Australia
END:VEVENT
END:VCALENDAR
