BEGIN:VCALENDAR
VERSION:2.0
PRODID:-//Squarespace Inc/Squarespace 6//v6//EN
BEGIN:VEVENT
UID:5d1ab1bb9e081100012d0704@squarespace.com
DTSTAMP:20200212T203003Z
DTSTART:20200303T080000Z
DTEND:20200303T090000Z
SUMMARY:Group Meditation - Bondi
GEO:-33.88728;151.279357
LOCATION:Orchard Street (upstairs)\, 1/2 Brighton Boulevard\, Bondi\, Austr
 alia
END:VEVENT
END:VCALENDAR
