BEGIN:VCALENDAR
VERSION:2.0
PRODID:-//Squarespace Inc/Squarespace 6//v6//EN
BEGIN:VEVENT
UID:59f001c5bff200f4d37ddbf8@squarespace.com
DTSTAMP:20190901T221709Z
DTSTART:20190908T000000Z
DTEND:20190908T020000Z
SUMMARY:Rounding Workshop
GEO:-33.88728;151.279357
LOCATION:Temple North (upstairs Orchard St)\, 1/2 Brighton Boulevard\, Bond
 i\, Australia
END:VEVENT
END:VCALENDAR
