BEGIN:VCALENDAR
VERSION:2.0
PRODID:-//Squarespace Inc/Squarespace 6//v6//EN
BEGIN:VEVENT
UID:5ae2656270a6ad51b40c7f54@squarespace.com
DTSTAMP:20200117T064419Z
DTSTART:20200228T050000Z
DTEND:20200301T050000Z
SUMMARY:Meditation Course - Bondi
GEO:-33.88728;151.279357
LOCATION:Orchard Street (upstairs)\, 1/2 Brighton Boulevard\, Bondi Beach\, 
 Australia
END:VEVENT
END:VCALENDAR
