BEGIN:VCALENDAR
VERSION:2.0
PRODID:-//Squarespace Inc/Squarespace 6//v6//EN
BEGIN:VEVENT
UID:5ae2637af950b7bc940af108@squarespace.com
DTSTAMP:20200212T203121Z
DTSTART:20200407T090000Z
DTEND:20200407T100000Z
SUMMARY:Group Meditation - Bondi in person or online
GEO:-33.88728;151.279357
LOCATION:Orchard St (upstairs) Bondi OR Online\, 1/2 Brighton Boulevard\, B
 ondi\, Australia
END:VEVENT
END:VCALENDAR
