BEGIN:VCALENDAR
VERSION:2.0
PRODID:-//Squarespace Inc/Squarespace 6//v6//EN
BEGIN:VEVENT
UID:5ae25dc203ce647f734610dc@squarespace.com
DTSTAMP:20200117T065135Z
DTSTART:20200403T050000Z
DTEND:20200405T060000Z
SUMMARY:Group Meditation  Course\, Bondi
GEO:-33.88728;151.279357
LOCATION:Orchard St (upstairs)\, 1/2 Brighton Boulevard\, Bondi\, NSW\, 202
 6\, Australia
END:VEVENT
END:VCALENDAR
